BEGIN:VCALENDAR
VERSION:2.0
PRODID:-//Marshall Child Development Center - ECPv6.15.13//NONSGML v1.0//EN
CALSCALE:GREGORIAN
METHOD:PUBLISH
X-WR-CALNAME:Marshall Child Development Center
X-ORIGINAL-URL:https://mcdc.msfc.nasa.gov
X-WR-CALDESC:Events for Marshall Child Development Center
REFRESH-INTERVAL;VALUE=DURATION:PT1H
X-Robots-Tag:noindex
X-PUBLISHED-TTL:PT1H
BEGIN:VTIMEZONE
TZID:America/Chicago
BEGIN:DAYLIGHT
TZOFFSETFROM:-0600
TZOFFSETTO:-0500
TZNAME:CDT
DTSTART:20250309T080000
END:DAYLIGHT
BEGIN:STANDARD
TZOFFSETFROM:-0500
TZOFFSETTO:-0600
TZNAME:CST
DTSTART:20251102T070000
END:STANDARD
BEGIN:DAYLIGHT
TZOFFSETFROM:-0600
TZOFFSETTO:-0500
TZNAME:CDT
DTSTART:20260308T080000
END:DAYLIGHT
BEGIN:STANDARD
TZOFFSETFROM:-0500
TZOFFSETTO:-0600
TZNAME:CST
DTSTART:20261101T070000
END:STANDARD
BEGIN:DAYLIGHT
TZOFFSETFROM:-0600
TZOFFSETTO:-0500
TZNAME:CDT
DTSTART:20270314T080000
END:DAYLIGHT
BEGIN:STANDARD
TZOFFSETFROM:-0500
TZOFFSETTO:-0600
TZNAME:CST
DTSTART:20271107T070000
END:STANDARD
END:VTIMEZONE
BEGIN:VEVENT
DTSTART;TZID=America/Chicago:20260428T170000
DTEND;TZID=America/Chicago:20260428T190000
DTSTAMP:20260425T190429
CREATED:20260108T221108Z
LAST-MODIFIED:20260108T221108Z
UID:10001890-1777395600-1777402800@mcdc.msfc.nasa.gov
SUMMARY:Staff Meeting
DESCRIPTION:
URL:https://mcdc.msfc.nasa.gov/event/staff-meeting-4/
CATEGORIES:mcdc-events
END:VEVENT
BEGIN:VEVENT
DTSTART;TZID=America/Chicago:20260429T074500
DTEND;TZID=America/Chicago:20260429T083000
DTSTAMP:20260425T190429
CREATED:20260330T185551Z
LAST-MODIFIED:20260330T185551Z
UID:10002114-1777448700-1777451400@mcdc.msfc.nasa.gov
SUMMARY:Toast with Jelly\, Strawberries\, Milk
DESCRIPTION:Breakfast
URL:https://mcdc.msfc.nasa.gov/event/toast-with-jelly-strawberries-milk-3/
END:VEVENT
BEGIN:VEVENT
DTSTART;TZID=America/Chicago:20260429T103000
DTEND;TZID=America/Chicago:20260429T120000
DTSTAMP:20260425T190429
CREATED:20260330T185552Z
LAST-MODIFIED:20260330T185552Z
UID:10002115-1777458600-1777464000@mcdc.msfc.nasa.gov
SUMMARY:Turkey\, Mashed Potatoes\, Corn\, Roll\, Milk
DESCRIPTION:Lunch
URL:https://mcdc.msfc.nasa.gov/event/turkey-mashed-potatoes-corn-roll-milk-5/
END:VEVENT
BEGIN:VEVENT
DTSTART;TZID=America/Chicago:20260429T144500
DTEND;TZID=America/Chicago:20260429T153000
DTSTAMP:20260425T190430
CREATED:20260330T185552Z
LAST-MODIFIED:20260330T185552Z
UID:10002116-1777473900-1777476600@mcdc.msfc.nasa.gov
SUMMARY:Graham Crackers with Cream Cheese\, Milk
DESCRIPTION:Snack
URL:https://mcdc.msfc.nasa.gov/event/graham-crackers-with-cream-cheese-milk-2/
END:VEVENT
END:VCALENDAR