BEGIN:VCALENDAR
VERSION:2.0
PRODID:-//Marshall Child Development Center - ECPv6.15.13//NONSGML v1.0//EN
CALSCALE:GREGORIAN
METHOD:PUBLISH
X-WR-CALNAME:Marshall Child Development Center
X-ORIGINAL-URL:https://mcdc.msfc.nasa.gov
X-WR-CALDESC:Events for Marshall Child Development Center
REFRESH-INTERVAL;VALUE=DURATION:PT1H
X-Robots-Tag:noindex
X-PUBLISHED-TTL:PT1H
BEGIN:VTIMEZONE
TZID:America/Chicago
BEGIN:DAYLIGHT
TZOFFSETFROM:-0600
TZOFFSETTO:-0500
TZNAME:CDT
DTSTART:20240310T080000
END:DAYLIGHT
BEGIN:STANDARD
TZOFFSETFROM:-0500
TZOFFSETTO:-0600
TZNAME:CST
DTSTART:20241103T070000
END:STANDARD
BEGIN:DAYLIGHT
TZOFFSETFROM:-0600
TZOFFSETTO:-0500
TZNAME:CDT
DTSTART:20250309T080000
END:DAYLIGHT
BEGIN:STANDARD
TZOFFSETFROM:-0500
TZOFFSETTO:-0600
TZNAME:CST
DTSTART:20251102T070000
END:STANDARD
BEGIN:DAYLIGHT
TZOFFSETFROM:-0600
TZOFFSETTO:-0500
TZNAME:CDT
DTSTART:20260308T080000
END:DAYLIGHT
BEGIN:STANDARD
TZOFFSETFROM:-0500
TZOFFSETTO:-0600
TZNAME:CST
DTSTART:20261101T070000
END:STANDARD
END:VTIMEZONE
BEGIN:VEVENT
DTSTART;TZID=America/Chicago:20251218T103000
DTEND;TZID=America/Chicago:20251218T120000
DTSTAMP:20260420T134444
CREATED:20251203T151713Z
LAST-MODIFIED:20251204T152245Z
UID:10001788-1766053800-1766059200@mcdc.msfc.nasa.gov
SUMMARY:Roast Beast (Beef)\, Who Mash (Mashed Potatoes)\, Grinchy Green Beans\, Schlotts Knots (Roll)\, Yinks Pink Drink (Milk)
DESCRIPTION:Lunch
URL:https://mcdc.msfc.nasa.gov/event/roast-beast-beef-who-mash-mashed-potatoes-grinchy-green-beans-schlotts-knots-roll-yinks-pink-drink-milk/
CATEGORIES:cafeteria-menu
END:VEVENT
BEGIN:VEVENT
DTSTART;TZID=America/Chicago:20251218T144500
DTEND;TZID=America/Chicago:20251218T153000
DTSTAMP:20260420T134444
CREATED:20251203T151714Z
LAST-MODIFIED:20251204T152219Z
UID:10001789-1766069100-1766071800@mcdc.msfc.nasa.gov
SUMMARY:Grinch Faces (Rice Cakes)\, Yinks Pink Drink (Milk)
DESCRIPTION:Snack
URL:https://mcdc.msfc.nasa.gov/event/grinch-faces-rice-cakes-yinks-pink-drink-milk/
CATEGORIES:cafeteria-menu
END:VEVENT
BEGIN:VEVENT
DTSTART;TZID=America/Chicago:20251219T074500
DTEND;TZID=America/Chicago:20251219T083000
DTSTAMP:20260420T134444
CREATED:20251203T151715Z
LAST-MODIFIED:20251204T152219Z
UID:10001790-1766130300-1766133000@mcdc.msfc.nasa.gov
SUMMARY:Yogurt with Granola\, Mixed Berries\, Milk
DESCRIPTION:Breakfast
URL:https://mcdc.msfc.nasa.gov/event/yogurt-with-granola-mixed-berries-milk-5/
CATEGORIES:cafeteria-menu
END:VEVENT
BEGIN:VEVENT
DTSTART;TZID=America/Chicago:20251219T103000
DTEND;TZID=America/Chicago:20251219T120000
DTSTAMP:20260420T134444
CREATED:20251203T151715Z
LAST-MODIFIED:20251204T152219Z
UID:10001791-1766140200-1766145600@mcdc.msfc.nasa.gov
SUMMARY:French Toast\, Sausage\, Tater Tots\, Bananas\, Milk
DESCRIPTION:Lunch
URL:https://mcdc.msfc.nasa.gov/event/french-toast-sausage-tater-tots-bananas-milk/
CATEGORIES:cafeteria-menu
END:VEVENT
BEGIN:VEVENT
DTSTART;TZID=America/Chicago:20251219T144500
DTEND;TZID=America/Chicago:20251219T153000
DTSTAMP:20260420T134444
CREATED:20251203T151716Z
LAST-MODIFIED:20251204T152219Z
UID:10001792-1766155500-1766158200@mcdc.msfc.nasa.gov
SUMMARY:Kitchen Choice\, Milk
DESCRIPTION:Snack
URL:https://mcdc.msfc.nasa.gov/event/kitchen-choice-milk-32/
CATEGORIES:cafeteria-menu
END:VEVENT
END:VCALENDAR