BEGIN:VCALENDAR
VERSION:2.0
PRODID:-//Marshall Child Development Center - ECPv6.15.13//NONSGML v1.0//EN
CALSCALE:GREGORIAN
METHOD:PUBLISH
X-WR-CALNAME:Marshall Child Development Center
X-ORIGINAL-URL:https://mcdc.msfc.nasa.gov
X-WR-CALDESC:Events for Marshall Child Development Center
REFRESH-INTERVAL;VALUE=DURATION:PT1H
X-Robots-Tag:noindex
X-PUBLISHED-TTL:PT1H
BEGIN:VTIMEZONE
TZID:America/Chicago
BEGIN:DAYLIGHT
TZOFFSETFROM:-0600
TZOFFSETTO:-0500
TZNAME:CDT
DTSTART:20240310T080000
END:DAYLIGHT
BEGIN:STANDARD
TZOFFSETFROM:-0500
TZOFFSETTO:-0600
TZNAME:CST
DTSTART:20241103T070000
END:STANDARD
BEGIN:DAYLIGHT
TZOFFSETFROM:-0600
TZOFFSETTO:-0500
TZNAME:CDT
DTSTART:20250309T080000
END:DAYLIGHT
BEGIN:STANDARD
TZOFFSETFROM:-0500
TZOFFSETTO:-0600
TZNAME:CST
DTSTART:20251102T070000
END:STANDARD
BEGIN:DAYLIGHT
TZOFFSETFROM:-0600
TZOFFSETTO:-0500
TZNAME:CDT
DTSTART:20260308T080000
END:DAYLIGHT
BEGIN:STANDARD
TZOFFSETFROM:-0500
TZOFFSETTO:-0600
TZNAME:CST
DTSTART:20261101T070000
END:STANDARD
END:VTIMEZONE
BEGIN:VEVENT
DTSTART;TZID=America/Chicago:20251023T103000
DTEND;TZID=America/Chicago:20251023T120000
DTSTAMP:20260424T190947
CREATED:20250926T152153Z
LAST-MODIFIED:20251005T205440Z
UID:10001667-1761215400-1761220800@mcdc.msfc.nasa.gov
SUMMARY:Scrambled Eggs\, Tater Tots\, Oranges\, Biscuits\, Milk
DESCRIPTION:Lunch
URL:https://mcdc.msfc.nasa.gov/event/scrambled-eggs-tater-tots-oranges-biscuits-milk/
CATEGORIES:cafeteria-menu
END:VEVENT
BEGIN:VEVENT
DTSTART;TZID=America/Chicago:20251023T144500
DTEND;TZID=America/Chicago:20251023T153000
DTSTAMP:20260424T190947
CREATED:20250926T152335Z
LAST-MODIFIED:20251005T205429Z
UID:10001668-1761230700-1761233400@mcdc.msfc.nasa.gov
SUMMARY:Trail Mix\, Milk
DESCRIPTION:Snack
URL:https://mcdc.msfc.nasa.gov/event/trail-mix-milk-9/
CATEGORIES:cafeteria-menu
END:VEVENT
BEGIN:VEVENT
DTSTART;TZID=America/Chicago:20251024T074500
DTEND;TZID=America/Chicago:20251024T083000
DTSTAMP:20260424T190947
CREATED:20250926T152336Z
LAST-MODIFIED:20251005T205424Z
UID:10001669-1761291900-1761294600@mcdc.msfc.nasa.gov
SUMMARY:Yogurt\, Granola\, Mixed Berries\, Milk
DESCRIPTION:Breakfast
URL:https://mcdc.msfc.nasa.gov/event/yogurt-granola-mixed-berries-milk-2/
CATEGORIES:cafeteria-menu
END:VEVENT
BEGIN:VEVENT
DTSTART;TZID=America/Chicago:20251024T103000
DTEND;TZID=America/Chicago:20251024T120000
DTSTAMP:20260424T190947
CREATED:20250926T152337Z
LAST-MODIFIED:20251005T205421Z
UID:10001670-1761301800-1761307200@mcdc.msfc.nasa.gov
SUMMARY:Ham\, Scalloped Potatoes\, Applesauce\, Bread\, Milk
DESCRIPTION:Lunch
URL:https://mcdc.msfc.nasa.gov/event/ham-scalloped-potatoes-applesauce-bread-milk/
CATEGORIES:cafeteria-menu
END:VEVENT
BEGIN:VEVENT
DTSTART;TZID=America/Chicago:20251024T144500
DTEND;TZID=America/Chicago:20251024T153000
DTSTAMP:20260424T190947
CREATED:20250926T152337Z
LAST-MODIFIED:20251005T205416Z
UID:10001671-1761317100-1761319800@mcdc.msfc.nasa.gov
SUMMARY:Kitchen Choice\, Milk
DESCRIPTION:Snack
URL:https://mcdc.msfc.nasa.gov/event/kitchen-choice-milk-24/
CATEGORIES:cafeteria-menu
END:VEVENT
END:VCALENDAR