BEGIN:VCALENDAR
VERSION:2.0
PRODID:-//Marshall Child Development Center - ECPv6.15.13//NONSGML v1.0//EN
CALSCALE:GREGORIAN
METHOD:PUBLISH
X-WR-CALNAME:Marshall Child Development Center
X-ORIGINAL-URL:https://mcdc.msfc.nasa.gov
X-WR-CALDESC:Events for Marshall Child Development Center
REFRESH-INTERVAL;VALUE=DURATION:PT1H
X-Robots-Tag:noindex
X-PUBLISHED-TTL:PT1H
BEGIN:VTIMEZONE
TZID:America/Chicago
BEGIN:DAYLIGHT
TZOFFSETFROM:-0600
TZOFFSETTO:-0500
TZNAME:CDT
DTSTART:20250309T080000
END:DAYLIGHT
BEGIN:STANDARD
TZOFFSETFROM:-0500
TZOFFSETTO:-0600
TZNAME:CST
DTSTART:20251102T070000
END:STANDARD
BEGIN:DAYLIGHT
TZOFFSETFROM:-0600
TZOFFSETTO:-0500
TZNAME:CDT
DTSTART:20260308T080000
END:DAYLIGHT
BEGIN:STANDARD
TZOFFSETFROM:-0500
TZOFFSETTO:-0600
TZNAME:CST
DTSTART:20261101T070000
END:STANDARD
BEGIN:DAYLIGHT
TZOFFSETFROM:-0600
TZOFFSETTO:-0500
TZNAME:CDT
DTSTART:20270314T080000
END:DAYLIGHT
BEGIN:STANDARD
TZOFFSETFROM:-0500
TZOFFSETTO:-0600
TZNAME:CST
DTSTART:20271107T070000
END:STANDARD
END:VTIMEZONE
BEGIN:VEVENT
DTSTART;VALUE=DATE:20260420
DTEND;VALUE=DATE:20260425
DTSTAMP:20260423T083610
CREATED:20260108T220957Z
LAST-MODIFIED:20260108T220957Z
UID:10001888-1776643200-1777075199@mcdc.msfc.nasa.gov
SUMMARY:Week of the Young Child
DESCRIPTION:
URL:https://mcdc.msfc.nasa.gov/event/week-of-the-young-child/
CATEGORIES:mcdc-events
END:VEVENT
BEGIN:VEVENT
DTSTART;TZID=America/Chicago:20260423T074500
DTEND;TZID=America/Chicago:20260423T083000
DTSTAMP:20260423T083610
CREATED:20260330T185508Z
LAST-MODIFIED:20260330T185508Z
UID:10002102-1776930300-1776933000@mcdc.msfc.nasa.gov
SUMMARY:Chicken Biscuit\, Bananas\, Milk
DESCRIPTION:Breakfast
URL:https://mcdc.msfc.nasa.gov/event/chicken-biscuit-bananas-milk/
END:VEVENT
BEGIN:VEVENT
DTSTART;TZID=America/Chicago:20260423T103000
DTEND;TZID=America/Chicago:20260423T120000
DTSTAMP:20260423T083610
CREATED:20260330T185508Z
LAST-MODIFIED:20260330T185508Z
UID:10002103-1776940200-1776945600@mcdc.msfc.nasa.gov
SUMMARY:Cheese Pizza\, Corn\, Applesauce\, Milk
DESCRIPTION:Lunch
URL:https://mcdc.msfc.nasa.gov/event/cheese-pizza-corn-applesauce-milk/
END:VEVENT
BEGIN:VEVENT
DTSTART;TZID=America/Chicago:20260423T144500
DTEND;TZID=America/Chicago:20260423T153000
DTSTAMP:20260423T083610
CREATED:20260330T185521Z
LAST-MODIFIED:20260330T185521Z
UID:10002104-1776955500-1776958200@mcdc.msfc.nasa.gov
SUMMARY:Pita Chips\, Hummus\, Water
DESCRIPTION:Snack
URL:https://mcdc.msfc.nasa.gov/event/pita-chips-hummus-water-5/
END:VEVENT
END:VCALENDAR