BEGIN:VCALENDAR
VERSION:2.0
PRODID:-//Marshall Child Development Center - ECPv6.15.13//NONSGML v1.0//EN
CALSCALE:GREGORIAN
METHOD:PUBLISH
X-ORIGINAL-URL:https://mcdc.msfc.nasa.gov
X-WR-CALDESC:Events for Marshall Child Development Center
REFRESH-INTERVAL;VALUE=DURATION:PT1H
X-Robots-Tag:noindex
X-PUBLISHED-TTL:PT1H
BEGIN:VTIMEZONE
TZID:America/Chicago
BEGIN:DAYLIGHT
TZOFFSETFROM:-0600
TZOFFSETTO:-0500
TZNAME:CDT
DTSTART:20250309T080000
END:DAYLIGHT
BEGIN:STANDARD
TZOFFSETFROM:-0500
TZOFFSETTO:-0600
TZNAME:CST
DTSTART:20251102T070000
END:STANDARD
BEGIN:DAYLIGHT
TZOFFSETFROM:-0600
TZOFFSETTO:-0500
TZNAME:CDT
DTSTART:20260308T080000
END:DAYLIGHT
BEGIN:STANDARD
TZOFFSETFROM:-0500
TZOFFSETTO:-0600
TZNAME:CST
DTSTART:20261101T070000
END:STANDARD
BEGIN:DAYLIGHT
TZOFFSETFROM:-0600
TZOFFSETTO:-0500
TZNAME:CDT
DTSTART:20270314T080000
END:DAYLIGHT
BEGIN:STANDARD
TZOFFSETFROM:-0500
TZOFFSETTO:-0600
TZNAME:CST
DTSTART:20271107T070000
END:STANDARD
END:VTIMEZONE
BEGIN:VEVENT
DTSTART;VALUE=DATE:20260301
DTEND;VALUE=DATE:20260401
DTSTAMP:20260420T081523
CREATED:20260108T220428Z
LAST-MODIFIED:20260108T220428Z
UID:10001884-1772323200-1775001599@mcdc.msfc.nasa.gov
SUMMARY:Read Across America Month
DESCRIPTION:
URL:https://mcdc.msfc.nasa.gov/event/read-across-america-month/
CATEGORIES:mcdc-events
END:VEVENT
BEGIN:VEVENT
DTSTART;TZID=America/Chicago:20260316T074500
DTEND;TZID=America/Chicago:20260316T083000
DTSTAMP:20260420T081523
CREATED:20260226T213347Z
LAST-MODIFIED:20260226T213347Z
UID:10002018-1773647100-1773649800@mcdc.msfc.nasa.gov
SUMMARY:Oatmeal\, Raisins\, Milk
DESCRIPTION:Breakfast
URL:https://mcdc.msfc.nasa.gov/event/oatmeal-raisins-milk-20/
CATEGORIES:cafeteria-menu
END:VEVENT
BEGIN:VEVENT
DTSTART;TZID=America/Chicago:20260316T103000
DTEND;TZID=America/Chicago:20260316T120000
DTSTAMP:20260420T081523
CREATED:20260226T213348Z
LAST-MODIFIED:20260226T213348Z
UID:10002019-1773657000-1773662400@mcdc.msfc.nasa.gov
SUMMARY:Chicken Tortilla Soup\, Tortillas\, Apples\, Milk
DESCRIPTION:Lunch
URL:https://mcdc.msfc.nasa.gov/event/chicken-tortilla-soup-tortillas-apples-milk-2/
CATEGORIES:cafeteria-menu
END:VEVENT
BEGIN:VEVENT
DTSTART;TZID=America/Chicago:20260316T144500
DTEND;TZID=America/Chicago:20260316T153000
DTSTAMP:20260420T081523
CREATED:20260226T213349Z
LAST-MODIFIED:20260226T213349Z
UID:10002020-1773672300-1773675000@mcdc.msfc.nasa.gov
SUMMARY:Yogurt\, Graham Crackers\, Milk
DESCRIPTION:Snack
URL:https://mcdc.msfc.nasa.gov/event/yogurt-graham-crackers-milk-3/
CATEGORIES:cafeteria-menu
END:VEVENT
END:VCALENDAR