BEGIN:VCALENDAR
VERSION:2.0
PRODID:-//Marshall Child Development Center - ECPv6.15.13//NONSGML v1.0//EN
CALSCALE:GREGORIAN
METHOD:PUBLISH
X-ORIGINAL-URL:https://mcdc.msfc.nasa.gov
X-WR-CALDESC:Events for Marshall Child Development Center
REFRESH-INTERVAL;VALUE=DURATION:PT1H
X-Robots-Tag:noindex
X-PUBLISHED-TTL:PT1H
BEGIN:VTIMEZONE
TZID:America/Chicago
BEGIN:DAYLIGHT
TZOFFSETFROM:-0600
TZOFFSETTO:-0500
TZNAME:CDT
DTSTART:20250309T080000
END:DAYLIGHT
BEGIN:STANDARD
TZOFFSETFROM:-0500
TZOFFSETTO:-0600
TZNAME:CST
DTSTART:20251102T070000
END:STANDARD
BEGIN:DAYLIGHT
TZOFFSETFROM:-0600
TZOFFSETTO:-0500
TZNAME:CDT
DTSTART:20260308T080000
END:DAYLIGHT
BEGIN:STANDARD
TZOFFSETFROM:-0500
TZOFFSETTO:-0600
TZNAME:CST
DTSTART:20261101T070000
END:STANDARD
BEGIN:DAYLIGHT
TZOFFSETFROM:-0600
TZOFFSETTO:-0500
TZNAME:CDT
DTSTART:20270314T080000
END:DAYLIGHT
BEGIN:STANDARD
TZOFFSETFROM:-0500
TZOFFSETTO:-0600
TZNAME:CST
DTSTART:20271107T070000
END:STANDARD
END:VTIMEZONE
BEGIN:VEVENT
DTSTART;VALUE=DATE:20260223
DTEND;VALUE=DATE:20260228
DTSTAMP:20260423T033525
CREATED:20260108T220213Z
LAST-MODIFIED:20260213T003207Z
UID:10001880-1771804800-1772236799@mcdc.msfc.nasa.gov
SUMMARY:Scholastic Book Fair
DESCRIPTION:
URL:https://mcdc.msfc.nasa.gov/event/scholastic-book-fair/
CATEGORIES:cafeteria-menu,mcdc-events
END:VEVENT
BEGIN:VEVENT
DTSTART;VALUE=DATE:20260223
DTEND;VALUE=DATE:20260228
DTSTAMP:20260423T033525
CREATED:20260108T220245Z
LAST-MODIFIED:20260213T003207Z
UID:10001881-1771804800-1772236799@mcdc.msfc.nasa.gov
SUMMARY:Dr. Suess Week
DESCRIPTION:
URL:https://mcdc.msfc.nasa.gov/event/dr-suess-week/
CATEGORIES:cafeteria-menu,mcdc-events
END:VEVENT
BEGIN:VEVENT
DTSTART;TZID=America/Chicago:20260225T074500
DTEND;TZID=America/Chicago:20260225T083000
DTSTAMP:20260423T033525
CREATED:20260203T155921Z
LAST-MODIFIED:20260213T003144Z
UID:10001979-1772005500-1772008200@mcdc.msfc.nasa.gov
SUMMARY:Green Eggs\, Bananas\, Milk
DESCRIPTION:Breakfast
URL:https://mcdc.msfc.nasa.gov/event/green-eggs-bananas-milk/
CATEGORIES:cafeteria-menu
END:VEVENT
BEGIN:VEVENT
DTSTART;TZID=America/Chicago:20260225T074500
DTEND;TZID=America/Chicago:20260225T083000
DTSTAMP:20260423T033525
CREATED:20260203T155921Z
LAST-MODIFIED:20260213T003144Z
UID:10001980-1772005500-1772008200@mcdc.msfc.nasa.gov
SUMMARY:Hop on Pop (Popcorn Chicken)\, Cat in the Hat Corn\, Diffendoofer Salad (Berries)\, Schlotts Knots (Bread)\, Mr Browns Moo Milk
DESCRIPTION:Breakfast
URL:https://mcdc.msfc.nasa.gov/event/hop-on-pop-popcorn-chicken-cat-in-the-hat-corn-diffendoofer-salad-berries-schlotts-knots-bread-mr-browns-moo-milk/
CATEGORIES:cafeteria-menu
END:VEVENT
BEGIN:VEVENT
DTSTART;TZID=America/Chicago:20260225T074500
DTEND;TZID=America/Chicago:20260225T083000
DTSTAMP:20260423T033525
CREATED:20260203T155922Z
LAST-MODIFIED:20260213T003144Z
UID:10001981-1772005500-1772008200@mcdc.msfc.nasa.gov
SUMMARY:Apples on Top\, Milk
DESCRIPTION:Breakfast
URL:https://mcdc.msfc.nasa.gov/event/apples-on-top-milk-2/
CATEGORIES:cafeteria-menu
END:VEVENT
END:VCALENDAR