BEGIN:VCALENDAR
VERSION:2.0
PRODID:-//Marshall Child Development Center - ECPv6.15.13//NONSGML v1.0//EN
CALSCALE:GREGORIAN
METHOD:PUBLISH
X-WR-CALNAME:Marshall Child Development Center
X-ORIGINAL-URL:https://mcdc.msfc.nasa.gov
X-WR-CALDESC:Events for Marshall Child Development Center
REFRESH-INTERVAL;VALUE=DURATION:PT1H
X-Robots-Tag:noindex
X-PUBLISHED-TTL:PT1H
BEGIN:VTIMEZONE
TZID:America/Chicago
BEGIN:DAYLIGHT
TZOFFSETFROM:-0600
TZOFFSETTO:-0500
TZNAME:CDT
DTSTART:20240310T080000
END:DAYLIGHT
BEGIN:STANDARD
TZOFFSETFROM:-0500
TZOFFSETTO:-0600
TZNAME:CST
DTSTART:20241103T070000
END:STANDARD
BEGIN:DAYLIGHT
TZOFFSETFROM:-0600
TZOFFSETTO:-0500
TZNAME:CDT
DTSTART:20250309T080000
END:DAYLIGHT
BEGIN:STANDARD
TZOFFSETFROM:-0500
TZOFFSETTO:-0600
TZNAME:CST
DTSTART:20251102T070000
END:STANDARD
BEGIN:DAYLIGHT
TZOFFSETFROM:-0600
TZOFFSETTO:-0500
TZNAME:CDT
DTSTART:20260308T080000
END:DAYLIGHT
BEGIN:STANDARD
TZOFFSETFROM:-0500
TZOFFSETTO:-0600
TZNAME:CST
DTSTART:20261101T070000
END:STANDARD
END:VTIMEZONE
BEGIN:VEVENT
DTSTART;TZID=America/Chicago:20251126T074500
DTEND;TZID=America/Chicago:20251126T083000
DTSTAMP:20260422T133118
CREATED:20251028T184816Z
LAST-MODIFIED:20251216T155823Z
UID:10001744-1764143100-1764145800@mcdc.msfc.nasa.gov
SUMMARY:Englsih Muffin\, Bananas\, Milk
DESCRIPTION:Breakfast
URL:https://mcdc.msfc.nasa.gov/event/englsih-muffin-bananas-milk/
CATEGORIES:cafeteria-menu
END:VEVENT
BEGIN:VEVENT
DTSTART;TZID=America/Chicago:20251126T103000
DTEND;TZID=America/Chicago:20251126T120000
DTSTAMP:20260422T133118
CREATED:20251028T184817Z
LAST-MODIFIED:20251216T155823Z
UID:10001745-1764153000-1764158400@mcdc.msfc.nasa.gov
SUMMARY:Chili\, Oranges\, Crackers\, Milk
DESCRIPTION:Lunch
URL:https://mcdc.msfc.nasa.gov/event/chili-oranges-crackers-milk/
CATEGORIES:cafeteria-menu
END:VEVENT
BEGIN:VEVENT
DTSTART;TZID=America/Chicago:20251126T144500
DTEND;TZID=America/Chicago:20251126T153000
DTSTAMP:20260422T133119
CREATED:20251028T184829Z
LAST-MODIFIED:20251216T160101Z
UID:10001746-1764168300-1764171000@mcdc.msfc.nasa.gov
SUMMARY:Kitchen Choice\, Milk
DESCRIPTION:Snack
URL:https://mcdc.msfc.nasa.gov/event/kitchen-choice-milk-29/
CATEGORIES:cafeteria-menu
END:VEVENT
END:VCALENDAR