BEGIN:VCALENDAR
VERSION:2.0
PRODID:-//Marshall Child Development Center - ECPv6.15.13//NONSGML v1.0//EN
CALSCALE:GREGORIAN
METHOD:PUBLISH
X-WR-CALNAME:Marshall Child Development Center
X-ORIGINAL-URL:https://mcdc.msfc.nasa.gov
X-WR-CALDESC:Events for Marshall Child Development Center
REFRESH-INTERVAL;VALUE=DURATION:PT1H
X-Robots-Tag:noindex
X-PUBLISHED-TTL:PT1H
BEGIN:VTIMEZONE
TZID:America/Chicago
BEGIN:DAYLIGHT
TZOFFSETFROM:-0600
TZOFFSETTO:-0500
TZNAME:CDT
DTSTART:20240310T080000
END:DAYLIGHT
BEGIN:STANDARD
TZOFFSETFROM:-0500
TZOFFSETTO:-0600
TZNAME:CST
DTSTART:20241103T070000
END:STANDARD
BEGIN:DAYLIGHT
TZOFFSETFROM:-0600
TZOFFSETTO:-0500
TZNAME:CDT
DTSTART:20250309T080000
END:DAYLIGHT
BEGIN:STANDARD
TZOFFSETFROM:-0500
TZOFFSETTO:-0600
TZNAME:CST
DTSTART:20251102T070000
END:STANDARD
BEGIN:DAYLIGHT
TZOFFSETFROM:-0600
TZOFFSETTO:-0500
TZNAME:CDT
DTSTART:20260308T080000
END:DAYLIGHT
BEGIN:STANDARD
TZOFFSETFROM:-0500
TZOFFSETTO:-0600
TZNAME:CST
DTSTART:20261101T070000
END:STANDARD
END:VTIMEZONE
BEGIN:VEVENT
DTSTART;TZID=America/Chicago:20251104T074500
DTEND;TZID=America/Chicago:20251104T083000
DTSTAMP:20260424T001927
CREATED:20251028T184610Z
LAST-MODIFIED:20251216T155928Z
UID:10001699-1762242300-1762245000@mcdc.msfc.nasa.gov
SUMMARY:Muffins\, Bananas\, Milk
DESCRIPTION:Breakfast
URL:https://mcdc.msfc.nasa.gov/event/muffins-bananas-milk-4/
CATEGORIES:cafeteria-menu
END:VEVENT
BEGIN:VEVENT
DTSTART;TZID=America/Chicago:20251104T103000
DTEND;TZID=America/Chicago:20251104T120000
DTSTAMP:20260424T001927
CREATED:20251028T184611Z
LAST-MODIFIED:20251216T155928Z
UID:10001700-1762252200-1762257600@mcdc.msfc.nasa.gov
SUMMARY:Fish Sandwich\, French Fries\, Peaches\, Milk
DESCRIPTION:Lunch
URL:https://mcdc.msfc.nasa.gov/event/fish-sandwich-french-fries-peaches-milk-2/
CATEGORIES:cafeteria-menu
END:VEVENT
BEGIN:VEVENT
DTSTART;TZID=America/Chicago:20251104T144500
DTEND;TZID=America/Chicago:20251104T153000
DTSTAMP:20260424T001927
CREATED:20251028T184614Z
LAST-MODIFIED:20251216T155928Z
UID:10001701-1762267500-1762270200@mcdc.msfc.nasa.gov
SUMMARY:Fresh Fruit\, Milk
DESCRIPTION:Snack
URL:https://mcdc.msfc.nasa.gov/event/fresh-fruit-milk-22/
CATEGORIES:cafeteria-menu
END:VEVENT
END:VCALENDAR