BEGIN:VCALENDAR
VERSION:2.0
PRODID:-//Marshall Child Development Center - ECPv6.15.13//NONSGML v1.0//EN
CALSCALE:GREGORIAN
METHOD:PUBLISH
X-WR-CALNAME:Marshall Child Development Center
X-ORIGINAL-URL:https://mcdc.msfc.nasa.gov
X-WR-CALDESC:Events for Marshall Child Development Center
REFRESH-INTERVAL;VALUE=DURATION:PT1H
X-Robots-Tag:noindex
X-PUBLISHED-TTL:PT1H
BEGIN:VTIMEZONE
TZID:America/Chicago
BEGIN:DAYLIGHT
TZOFFSETFROM:-0600
TZOFFSETTO:-0500
TZNAME:CDT
DTSTART:20240310T080000
END:DAYLIGHT
BEGIN:STANDARD
TZOFFSETFROM:-0500
TZOFFSETTO:-0600
TZNAME:CST
DTSTART:20241103T070000
END:STANDARD
BEGIN:DAYLIGHT
TZOFFSETFROM:-0600
TZOFFSETTO:-0500
TZNAME:CDT
DTSTART:20250309T080000
END:DAYLIGHT
BEGIN:STANDARD
TZOFFSETFROM:-0500
TZOFFSETTO:-0600
TZNAME:CST
DTSTART:20251102T070000
END:STANDARD
BEGIN:DAYLIGHT
TZOFFSETFROM:-0600
TZOFFSETTO:-0500
TZNAME:CDT
DTSTART:20260308T080000
END:DAYLIGHT
BEGIN:STANDARD
TZOFFSETFROM:-0500
TZOFFSETTO:-0600
TZNAME:CST
DTSTART:20261101T070000
END:STANDARD
END:VTIMEZONE
BEGIN:VEVENT
DTSTART;TZID=America/Chicago:20251014T074500
DTEND;TZID=America/Chicago:20251014T083000
DTSTAMP:20260424T054410
CREATED:20250926T151352Z
LAST-MODIFIED:20251005T205631Z
UID:10001645-1760427900-1760430600@mcdc.msfc.nasa.gov
SUMMARY:Cereal\, Oranges\, Milk
DESCRIPTION:Breakfast
URL:https://mcdc.msfc.nasa.gov/event/cereal-oranges-milk-9/
CATEGORIES:cafeteria-menu
END:VEVENT
BEGIN:VEVENT
DTSTART;TZID=America/Chicago:20251014T103000
DTEND;TZID=America/Chicago:20251014T120000
DTSTAMP:20260424T054410
CREATED:20250926T151352Z
LAST-MODIFIED:20251005T205626Z
UID:10001646-1760437800-1760443200@mcdc.msfc.nasa.gov
SUMMARY:BBQ Chicken\, Mashed Potatoes\, Corn\, Bread\, Milk
DESCRIPTION:Lunch
URL:https://mcdc.msfc.nasa.gov/event/bbq-chicken-mashed-potatoes-corn-bread-milk/
CATEGORIES:cafeteria-menu
END:VEVENT
BEGIN:VEVENT
DTSTART;TZID=America/Chicago:20251014T144500
DTEND;TZID=America/Chicago:20251014T153000
DTSTAMP:20260424T054410
CREATED:20250926T151353Z
LAST-MODIFIED:20251005T205621Z
UID:10001647-1760453100-1760455800@mcdc.msfc.nasa.gov
SUMMARY:Muffins\, Craisins\, Milk
DESCRIPTION:Snack
URL:https://mcdc.msfc.nasa.gov/event/muffins-craisins-milk/
CATEGORIES:cafeteria-menu
END:VEVENT
END:VCALENDAR