BEGIN:VCALENDAR
VERSION:2.0
PRODID:-//Marshall Child Development Center - ECPv6.15.13//NONSGML v1.0//EN
CALSCALE:GREGORIAN
METHOD:PUBLISH
X-ORIGINAL-URL:https://mcdc.msfc.nasa.gov
X-WR-CALDESC:Events for Marshall Child Development Center
REFRESH-INTERVAL;VALUE=DURATION:PT1H
X-Robots-Tag:noindex
X-PUBLISHED-TTL:PT1H
BEGIN:VTIMEZONE
TZID:America/Chicago
BEGIN:DAYLIGHT
TZOFFSETFROM:-0600
TZOFFSETTO:-0500
TZNAME:CDT
DTSTART:20240310T080000
END:DAYLIGHT
BEGIN:STANDARD
TZOFFSETFROM:-0500
TZOFFSETTO:-0600
TZNAME:CST
DTSTART:20241103T070000
END:STANDARD
BEGIN:DAYLIGHT
TZOFFSETFROM:-0600
TZOFFSETTO:-0500
TZNAME:CDT
DTSTART:20250309T080000
END:DAYLIGHT
BEGIN:STANDARD
TZOFFSETFROM:-0500
TZOFFSETTO:-0600
TZNAME:CST
DTSTART:20251102T070000
END:STANDARD
BEGIN:DAYLIGHT
TZOFFSETFROM:-0600
TZOFFSETTO:-0500
TZNAME:CDT
DTSTART:20260308T080000
END:DAYLIGHT
BEGIN:STANDARD
TZOFFSETFROM:-0500
TZOFFSETTO:-0600
TZNAME:CST
DTSTART:20261101T070000
END:STANDARD
END:VTIMEZONE
BEGIN:VEVENT
DTSTART;TZID=America/Chicago:20251007T074500
DTEND;TZID=America/Chicago:20251007T083000
DTSTAMP:20260423T202919
CREATED:20250926T151122Z
LAST-MODIFIED:20251005T205809Z
UID:10001630-1759823100-1759825800@mcdc.msfc.nasa.gov
SUMMARY:French Toast\, Pineapple\, Milk
DESCRIPTION:Breakfast
URL:https://mcdc.msfc.nasa.gov/event/french-toast-pineapple-milk-4/
CATEGORIES:cafeteria-menu
END:VEVENT
BEGIN:VEVENT
DTSTART;TZID=America/Chicago:20251007T103000
DTEND;TZID=America/Chicago:20251007T120000
DTSTAMP:20260423T202919
CREATED:20250926T151122Z
LAST-MODIFIED:20251005T205800Z
UID:10001631-1759833000-1759838400@mcdc.msfc.nasa.gov
SUMMARY:Ham\, Green Beans\, Pears\, Bread\, Milk
DESCRIPTION:Lunch
URL:https://mcdc.msfc.nasa.gov/event/ham-green-beans-pears-bread-milk/
CATEGORIES:cafeteria-menu
END:VEVENT
BEGIN:VEVENT
DTSTART;TZID=America/Chicago:20251007T144500
DTEND;TZID=America/Chicago:20251007T153000
DTSTAMP:20260423T202919
CREATED:20250926T151123Z
LAST-MODIFIED:20251005T205756Z
UID:10001632-1759848300-1759851000@mcdc.msfc.nasa.gov
SUMMARY:Trail Mix\, Milk
DESCRIPTION:Snack
URL:https://mcdc.msfc.nasa.gov/event/trail-mix-milk-8/
CATEGORIES:cafeteria-menu
END:VEVENT
END:VCALENDAR